BEGIN:VCALENDAR
VERSION:2.0
PRODID:-//lightbulb/agenda//NONSGML v1.0//EN
CALSCALE:GREGORIAN
BEGIN:VEVENT
UID:78d69f40906679a976dc4d45cebffbe6
DTSTAMP:20200814T231406
DTSTART:20201116T120000
DTEND:20201116T180000
SUMMARY:Réimecher Moart
LOCATION:Esplanade\, Remich
ORGANIZER:Ville de Remich
END:VEVENT
END:VCALENDAR
