BEGIN:VCALENDAR
VERSION:2.0
PRODID:-//lightbulb/agenda//NONSGML v1.0//EN
CALSCALE:GREGORIAN
BEGIN:VEVENT
UID:2ad9e5e943e43cad612a7996c12a8796
DTSTAMP:20200814T231417
DTSTART:20201212T000000
DTEND:20201213T000000
SUMMARY:Chrëschtmoart
LOCATION:Place Dr F. Kons
ORGANIZER:Ville de Remich
END:VEVENT
END:VCALENDAR
