BEGIN:VCALENDAR
VERSION:2.0
PRODID:-//lightbulb/agenda//NONSGML v1.0//EN
CALSCALE:GREGORIAN
BEGIN:VEVENT
UID:5505712229fb1eb500efadddc0353264
DTSTAMP:20200814T231431
DTSTART:20201219T000000
DTEND:20201220T000000
SUMMARY:Chrëschtmoart
LOCATION:Place Dr F. Kons
ORGANIZER:Ville de Remich
END:VEVENT
END:VCALENDAR
