BEGIN:VCALENDAR
VERSION:2.0
PRODID:-//lightbulb/agenda//NONSGML v1.0//EN
CALSCALE:GREGORIAN
BEGIN:VEVENT
UID:bca82e41ee7b0833588399b1fcd177c7
DTSTAMP:20210423T232459
DTSTART:20161126T110000
DTEND:20161127T200000
SUMMARY:Christmas market | 1st Advent
LOCATION:Place Dr F. Kons
ORGANIZER:Ville de Remich
URL;VALUE=URI:www.visitremich.lu
END:VEVENT
END:VCALENDAR
