BEGIN:VCALENDAR
VERSION:2.0
PRODID:-//lightbulb/agenda//NONSGML v1.0//EN
CALSCALE:GREGORIAN
BEGIN:VEVENT
UID:c7b90b0fc23725f299b47c5224e6ec0d
DTSTAMP:20190822T212644
DTSTART:20190824T183000
SUMMARY:Open-Air Kino
LOCATION:Um Gréin\, route du Vin
ORGANIZER:Ville de Remich
URL;VALUE=URI:visitremich.lu
END:VEVENT
END:VCALENDAR
