BEGIN:VCALENDAR
VERSION:2.0
PRODID:-//lightbulb/agenda//NONSGML v1.0//EN
CALSCALE:GREGORIAN
BEGIN:VEVENT
UID:87f7ee4fdb57bdfd52179947211b7ebb
DTSTAMP:20190822T212659
DTSTART:20190831T180000
SUMMARY:Open-Air Kino
LOCATION:Um Gréin\, route du Vin
ORGANIZER:Ville de Remich
URL;VALUE=URI:visitremich.lu
END:VEVENT
END:VCALENDAR
